BEGIN:VCALENDAR
VERSION:2.0
PRODID:-//wp-events-plugin.com//7.2.3.1//EN
BEGIN:VEVENT
UID:3@helloalleva.com
DTSTART;TZID=America/Los_Angeles:20250723T110000
DTEND;TZID=America/Los_Angeles:20250723T120000
DTSTAMP:20260217T024604Z
URL:https://helloalleva.com/events/alleva-echo-transforms-clinical-workflo
 ws/
SUMMARY:AI in Action: How Alleva Echo Transforms Clinical Workflows
DESCRIPTION:Explore how Echo\, Alleva's HIPAA-compliant\, ambient AI trans
 cription tool\, is redefining note-taking and documentation for behaviora
 l health professionals. Echo listens in the background of your sessions an
 d automatically generates real-time\, audit-ready notes\, helping clinicia
 ns reduce burnout and spend more time with clients.\nThis session will be 
 hosted by Les Wilson\, Alleva's Vice President of Product\, and Bella Mald
 onado\, our AI &amp\; BI Product Manager—drivers behind Alleva’s intel
 ligent workflow innovations.\nWe’ll also share how Alleva is integrating
  ethical\, clinician-first AI across our platform to support care delivery
 —without disrupting the human connection at the heart of behavioral heal
 th.\nTopics We’ll Cover:\n\n\n 	Real-time transcription and structured n
 ote generation with Echo\n 	How ambient AI reduces clinician workload\n 	S
 upport for DAP\, SOAP\, and UR notes\n 	Ethical and responsible behavioral
  health AI\n 	A look ahead at Alleva Intelligence and what’s coming next
 \n\nReserve your spot today!\nCheck out our other event appearances:\n\n 	
 Cape Cod Symposium\n 	TAAP Conference\n 	Elevate 2025\n 	MARRCH Annual Con
 ference\n 	TCIV 2025 in Scottsdale\n 	Winter Symposium on Addiction and Me
 ntal Health\n 	NATSAP Annual Conference 2026\n
ATTACH;FMTTYPE=image/jpeg:https://helloalleva.com/wp-content/uploads/2025/
 07/AI_In_Action.png
CATEGORIES:Webinar
LOCATION:https://alleva.zoom.us/webinar/register/WN_68STH8xVRHOQGHATRWl72w
END:VEVENT
BEGIN:VTIMEZONE
TZID:America/Los_Angeles
X-LIC-LOCATION:America/Los_Angeles
BEGIN:DAYLIGHT
DTSTART:20250309T030000
TZOFFSETFROM:-0800
TZOFFSETTO:-0700
TZNAME:PDT
END:DAYLIGHT
END:VTIMEZONE
END:VCALENDAR