BEGIN:VCALENDAR
VERSION:2.0
PRODID:-//wp-events-plugin.com//7.2.3.1//EN
BEGIN:VEVENT
UID:7@helloalleva.com
DTSTART;VALUE=DATE:20250904
DTEND;VALUE=DATE:20250908
DTSTAMP:20260217T024635Z
URL:https://helloalleva.com/events/cape-cod-symposium-2025/
SUMMARY:Cape Cod Symposium 2025
DESCRIPTION:September 4–7\, 2025 | Cape Cod\, MA | Booth 441\nWe’re bac
 k at one of our favorite conferences—the Cape Cod Symposium! From Septem
 ber 4–7\, you can meet Shelby Nelson\, our Director of Partnerships\, a
 nd Justin Addy\, Account Executive\, at Booth 441 to learn how Alleva is h
 elping behavioral health organizations streamline operations\, elevate cli
 ent care\, and simplify billing.\nDon’t miss the chance to connect with 
 us and see how Alleva is empowering providers to deliver care with confide
 nce.\nLearn More About CCSAD\nCheck out our other event appearances:\n\n 	
 How Alleva Echo Transforms Clinical Workflows\n 	TAAP Conference\n 	Elevat
 e 2025\n 	MARRCH Annual Conference\n 	TCIV 2025 in Scottsdale\n 	Winter Sy
 mposium on Addiction and Mental Health\n 	NATSAP Annual Conference 2026\n
ATTACH;FMTTYPE=image/jpeg:https://helloalleva.com/wp-content/uploads/2025/
 08/Cape-Cod-Symposium.jpeg
CATEGORIES:Conference
END:VEVENT
END:VCALENDAR