BEGIN:VCALENDAR
VERSION:2.0
PRODID:-//wp-events-plugin.com//7.2.3.1//EN
BEGIN:VEVENT
UID:8@helloalleva.com
DTSTART;VALUE=DATE:20250930
DTEND;VALUE=DATE:20251002
DTSTAMP:20260217T024647Z
URL:https://helloalleva.com/events/elevate-2025-advancing-behavioral-healt
 h-together/
SUMMARY:Elevate 2025: Advancing Behavioral Health Together
DESCRIPTION:September 30 – October 1\, 2025 | Minneapolis\, MN\nPresented
  by Alleva &amp\; Horowitz Health\nRegister Now – Free to Attend\nJoin i
 ndustry leaders\, innovators\, and change-makers at Elevate 2025\, an imme
 rsive two-day conference designed to transform the way behavioral healthca
 re is delivered. This unmatched event goes beyond the basics\, bringing to
 gether clinicians\, executives\, operations leaders\, and technology partn
 ers to explore the full continuum of care.\nThrough powerful keynotes\, ex
 pert panels\, and interactive breakout sessions\, Elevate 2025 delivers ac
 tionable insights across clinical practice\, operations\, payer strategy\,
  staffing\, compliance\, marketing\, and technology. Whether you’re a th
 erapist\, administrator\, biller\, or CEO\, this conference is your opport
 unity to grow\, connect\, and lead the future of behavioral health.\nWhy A
 ttend?\n\n\n 	Dynamic Presentations covering Clinical Excellence\, Busines
 s Innovation\, Tech &amp\; EHR Advancements\, and Leadership in Operations
 .\n 	Top Speakers &amp\; Panels including Drew Horowitz\, Lisa Asper\, All
 eva experts\, and leaders from Gateway Recovery\, Hometown Billing\, and m
 ore.\n 	Hands-on Technology Labs and live demonstrations.\n 	CEs Available
  for clinical professionals.\n 	Exclusive Networking Events with hospitals
 \, treatment centers\, EHR vendors\, billing companies\, and pharmaceutica
 l leaders.\n\nDon’t miss this milestone event. Register today to secure 
 your spot at Elevate 2025—your chance to be part of the conversations an
 d collaborations shaping the future of behavioral health.\nCheck out our o
 ther event appearances:\n\n 	How Alleva Echo Transforms Clinical Workflows
 \n 	Cape Cod Symposium\n 	TAAP Conference\n 	MARRCH Annual Conference\n 	T
 CIV 2025 in Scottsdale\n 	Winter Symposium on Addiction and Mental Health\
 n 	NATSAP Annual Conference 2026\n
ATTACH;FMTTYPE=image/jpeg:https://helloalleva.com/wp-content/uploads/2025/
 08/elevate_instapost-1-scaled.jpg
CATEGORIES:Conference
END:VEVENT
END:VCALENDAR