BEGIN:VCALENDAR
VERSION:2.0
PRODID:-//wp-events-plugin.com//7.2.3.1//EN
BEGIN:VEVENT
UID:10@helloalleva.com
DTSTART;VALUE=DATE:20251208
DTEND;VALUE=DATE:20251211
DTSTAMP:20260217T024705Z
URL:https://helloalleva.com/events/treatment-center-investment-valuation-r
 etreat-2025/
SUMMARY:Treatment Center Investment & Valuation Retreat 2025
DESCRIPTION:Join Alleva at TCIV 2025 in Scottsdale\, AZ — the premier net
 working and strategy event for behavioral health leadership. This annual r
 etreat brings together operators\, investors\, and decision-makers shaping
  the future of care delivery\, innovation\, and growth in the treatment ce
 nter landscape.\nWe’ll be on-site meeting with programs\, discussing ind
 ustry trends\, and sharing how a truly connected platform supports clinica
 l\, operational\, and financial outcomes under one roof. For providers nav
 igating scale\, payer pressures\, and operational complexity — TCIV offe
 rs meaningful conversations about what’s working\, what’s changing\, a
 nd what’s next.\nIf you’re attending and would like to connect with Al
 leva while you’re there\, we’d love to meet you.\nLearn more about the
  event here.\nCheck out our other event appearances:\n\n 	How Alleva Echo 
 Transforms Clinical Workflows\n 	Cape Cod Symposium\n 	TAAP Conference\n 	
 Elevate 2025\n 	MARRCH Annual Conference\n 	Winter Symposium on Addiction 
 and Mental Health\n 	NATSAP Annual Conference 2026\n
ATTACH;FMTTYPE=image/jpeg:https://helloalleva.com/wp-content/uploads/2025/
 11/TCIV_west_2025.png
CATEGORIES:Conference
END:VEVENT
END:VCALENDAR